BEGIN:VCALENDAR
VERSION:2.0
PRODID:-//104.198.108.154//NONSGML kigkonsult.se iCalcreator 2.24.2//
CALSCALE:GREGORIAN
METHOD:PUBLISH
X-FROM-URL:https://www.ncpgambling.org
X-WR-TIMEZONE:America/New_York
BEGIN:VTIMEZONE
TZID:America/New_York
X-LIC-LOCATION:America/New_York
BEGIN:STANDARD
DTSTART:20211107T020000
TZOFFSETFROM:-0400
TZOFFSETTO:-0500
RDATE:20221106T020000
TZNAME:EST
END:STANDARD
BEGIN:DAYLIGHT
DTSTART:20210314T020000
TZOFFSETFROM:-0500
TZOFFSETTO:-0400
RDATE:20220313T020000
TZNAME:EDT
END:DAYLIGHT
END:VTIMEZONE
BEGIN:VEVENT
UID:ai1ec-6554@www.ncpgambling.org
DTSTAMP:20210727T163352Z
CATEGORIES;LANGUAGE=en-US:New Jersey
CONTACT:Alice Ostapiuk\; (609) 588-5515\; alice@800gambler.org\; http://www
 .800gambler.org
DESCRIPTION:The Conference is titled “Prevention\, Intervention\, Treatment
 : A Collaborative Approach to Addressing Disordered Gambling”\nKeynote Spe
 aker: Dr. Timothy W. Fong\, M.D.\nThe Council on Compulsive Gambling of NJ
 \, Inc. is celebrating its 35th year as a Council. We are looking forward 
 to this very innovative and exciting conference.\n \nCLICK HERE TO REGISTE
 R
DTSTART;VALUE=DATE:20180921
DTEND;VALUE=DATE:20180922
LOCATION:New Jersey Hospital Association (NJHA) @ 760 Alexander Rd\, Prince
 ton\, NJ 08543
SEQUENCE:0
SUMMARY:The Council on Compulsive Gambling of New Jersey 36th Annual Statew
 ide Conference on Compulsive Gambling (NJ)
URL:https://www.ncpgambling.org/event/the-council-on-compulsive-gambling-of
 -new-jersey-36th-annual-statewide-conference-on-compulsive-gambling-nj/
X-COST-TYPE:free
X-ALT-DESC;FMTTYPE=text/html:<!DOCTYPE HTML PUBLIC '-//W3C//DTD HTML 3.2//E
 N'>\\n<HTML>\\n<HEAD>\\n<TITLE></TITLE>\\n</HEAD>\\n<BODY><p>The Conferenc
 e is titled “Prevention\, Intervention\, Treatment: A Collaborative Approa
 ch to Addressing Disordered Gambling”</p>\n<p>Keynote Speaker: Dr. Timothy
  W. Fong\, M.D.</p>\n<p>The Council on Compulsive Gambling of NJ\, Inc. is
  celebrating its 35th year as a Council. We are looking forward to this ve
 ry innovative and exciting conference.</p>\n<p> </p>\n<p><a href='http://w
 ww.800gambler.org'>CLICK HERE TO REGISTER</a></p>\n</BODY></HTML>
END:VEVENT
BEGIN:VEVENT
UID:ai1ec-6552@www.ncpgambling.org
DTSTAMP:20210727T163352Z
CATEGORIES;LANGUAGE=en-US:Washington
CONTACT:Kathy Bishop\; (360) 352-6133\; kbishop@evergreencpg.org\; https://
 fourdirections.evergreencpg.org
DESCRIPTION:The goal of the Four Directions conference is to Honor Our Past
  and Protect Our Future through holistic health\, wellness\, and recovery 
 support\; from expanding knowledge and skills to experiencing healing and 
 teaching tools that honor the traditional heritage of many cultures.We hop
 e to bring together Tribal leaders\, behavioral health directors and couns
 elors\, education and prevention specialists\, recovery and peer coaches\,
  and representatives of the gaming industry to support each other with kno
 wledge and experience around health issues\, gambling disorder and other a
 ddictions\, and financial and safety concerns that affect all our communit
 ies. We invite you to join in a fantastic celebration of our 10th Annual F
 our Directions conference.\n \nCLICK HERE TO REGISTER
DTSTART;VALUE=DATE:20181001
DTEND;VALUE=DATE:20181005
LOCATION:Little Creek Casino Resort @ 91 W State Route 108\, Shelton\, WA 9
 8584
SEQUENCE:0
SUMMARY:Four Directions Conference (WA)
URL:https://www.ncpgambling.org/event/four-directions-conference-wa/
X-COST-TYPE:free
X-ALT-DESC;FMTTYPE=text/html:<!DOCTYPE HTML PUBLIC '-//W3C//DTD HTML 3.2//E
 N'>\\n<HTML>\\n<HEAD>\\n<TITLE></TITLE>\\n</HEAD>\\n<BODY><p>The goal of t
 he Four Directions conference is to Honor Our Past and Protect Our Future 
 through holistic health\, wellness\, and recovery support\; from expanding
  knowledge and skills to experiencing healing and teaching tools that hono
 r the traditional heritage of many cultures.We hope to bring together Trib
 al leaders\, behavioral health directors and counselors\, education and pr
 evention specialists\, recovery and peer coaches\, and representatives of 
 the gaming industry to support each other with knowledge and experience ar
 ound health issues\, gambling disorder and other addictions\, and financia
 l and safety concerns that affect all our communities. We invite you to jo
 in in a fantastic celebration of our 10th Annual Four Directions conferenc
 e.</p>\n<p> </p>\n<p><a href='https://fourdirections.evergreencpg.org'>CLI
 CK HERE TO REGISTER</a></p>\n</BODY></HTML>
END:VEVENT
BEGIN:VEVENT
UID:ai1ec-6551@www.ncpgambling.org
DTSTAMP:20210727T163352Z
CATEGORIES;LANGUAGE=en-US:Connecticut
CONTACT:Kaitlin Foshay-Brown\; (860) 604-0194\; Kaitlinf@ccpg.org\; https:/
 /www.eventbrite.com/e/15th-annual-ccpg-conference-navigating-the-future-of
 -problem-gambling-tickets-47968257349
DESCRIPTION:Navigating the Future of Problem Gambling\nThis year we’re exci
 ted to feature Spencer Christian as our keynote speaker! Best known as the
  former weather forecaster for ABC’s Good Morning America\, Spencer recent
 ly authored a book entitled\, “You Bet Your Life\,” in which he details hi
 s struggles with disordered gambling.\nWe are also thrilled to be joined b
 y Cam Adair\, internationally-known YouTuber and pioneer on video gaming a
 ddiction. He will be sharing his personal journey of overcoming his addict
 ion to the gaming world and offer key insights into how gaming and social 
 media are designed to keep people hooked.\nWe’ll also have workshops and s
 essions on at-risk populations and the far-reaching impact of gambling\, g
 aming and other risky behaviors\; the intersection of problem gambling and
  human trafficking\; legislative and advocacy updates in CT and much more!
 \n \nCLICK HERE TO REGISTER
DTSTART;TZID=America/New_York:20181023T080000
DTEND;TZID=America/New_York:20181023T170000
LOCATION:Hilton Mystic @ 20 Coogan Blvd Mystic\, CT 06355
SEQUENCE:0
SUMMARY:15th Annual Connecticut Council on Problem Gambling Conference (CT)
URL:https://www.ncpgambling.org/event/15th-annual-connecticut-council-on-pr
 oblem-gambling-conference/
X-COST-TYPE:free
X-ALT-DESC;FMTTYPE=text/html:<!DOCTYPE HTML PUBLIC '-//W3C//DTD HTML 3.2//E
 N'>\\n<HTML>\\n<HEAD>\\n<TITLE></TITLE>\\n</HEAD>\\n<BODY><p><strong>Navig
 ating the Future of Problem Gambling</strong></p>\n<p><b><span style='font
 -size: 10.0pt\; font-family: 'Arial'\,sans-serif\; color: #333333\;'>This 
 year we’re excited to feature Spencer Christian as our keynote speaker! Be
 st known as the former weather forecaster for ABC’s Good Morning America\,
  Spencer recently authored a book entitled\, “You Bet Your Life\,” in whic
 h he details his struggles with disordered gambling.</span></b></p>\n<p><b
 ><span style='font-size: 10.0pt\; font-family: 'Arial'\,sans-serif\; color
 : #333333\;'>We are also thrilled to be joined by Cam Adair\, internationa
 lly-known YouTuber and pioneer on video gaming addiction. He will be shari
 ng his personal journey of overcoming his addiction to the gaming world</s
 pan></b><b><span style='font-size: 14.0pt\; font-family: 'Arial'\,sans-ser
 if\; color: #333333\;'> </span></b><b><span style='font-size: 10.0pt\; fon
 t-family: 'Arial'\,sans-serif\; color: #333333\;'>and offer key insights i
 nto how gaming and social media are designed to keep people hooked.</span>
 </b></p>\n<p><b><span style='font-size: 10.0pt\; font-family: 'Arial'\,san
 s-serif\; color: #333333\;'>We’ll also have workshops and sessions on at-r
 isk populations and the far-reaching impact of gambling\, gaming and other
  risky behaviors\; the intersection of problem gambling and human traffick
 ing\; legislative</span></b><b><span style='font-size: 14.0pt\; font-famil
 y: 'Arial'\,sans-serif\; color: #333333\;'> </span></b><b><span style='fon
 t-size: 10.0pt\; font-family: 'Arial'\,sans-serif\; color: #333333\;'>and 
 advocacy updates in CT and much more!</span></b></p>\n<p> </p>\n<p><a href
 ='https://www.eventbrite.com/e/15th-annual-ccpg-conference-navigating-the-
 future-of-problem-gambling-tickets-47968257349'>CLICK HERE TO REGISTER</a>
 </p>\n</BODY></HTML>
END:VEVENT
BEGIN:VEVENT
UID:ai1ec-6890@www.ncpgambling.org
DTSTAMP:20210727T163352Z
CATEGORIES;LANGUAGE=en-US:Washington
CONTACT:Kathy Bishop\; (360) 352-6133 \; kbishop@evergreencpg.org \; www.ev
 ergreencpg.org
DESCRIPTION:30-hour Introductory Problem Gambling Counselor Training\, Feb 
 11-14\; Advanced Training Workshops Feb 13-14\, including: Building Skills
  in Motivational Interviewing\; Effective Treatment Planning: From Assessm
 ent to Termination\; Introduction to Mindfulness-based Relapse Prevention 
 for Treating Disordered Gambling\; and The Art and Science of Dialectical 
 Behavior Therapy.\nTickets: https://wp.me/Pa672H-GS .
DTSTART;TZID=America/New_York:20190211T080000
DTEND;TZID=America/New_York:20190211T170000
LOCATION:Heathman Lodge @ 7801 NE Greenwood Dr Vancouver\, WA 98662
SEQUENCE:0
SUMMARY:Introductory and Advanced Training Workshops (WA)
URL:https://www.ncpgambling.org/event/introductory-and-advanced-training-wo
 rkshops-wa/
X-COST-TYPE:external
X-ALT-DESC;FMTTYPE=text/html:<!DOCTYPE HTML PUBLIC '-//W3C//DTD HTML 3.2//E
 N'>\\n<HTML>\\n<HEAD>\\n<TITLE></TITLE>\\n</HEAD>\\n<BODY><p>30-hour Intro
 ductory Problem Gambling Counselor Training\, Feb 11-14\; Advanced Trainin
 g Workshops Feb 13-14\, including: Building Skills in Motivational Intervi
 ewing\; Effective Treatment Planning: From Assessment to Termination\; Int
 roduction to Mindfulness-based Relapse Prevention for Treating Disordered 
 Gambling\; and The Art and Science of Dialectical Behavior Therapy.</p>\n<
 p>Tickets: <a class='ai1ec-ticket-url-exported' href='https://wp.me/Pa672H
 -GS '>https://wp.me/Pa672H-GS </a>.</p></BODY></HTML>
X-TICKETS-URL:https://wp.me/Pa672H-GS
END:VEVENT
BEGIN:VEVENT
UID:ai1ec-6891@www.ncpgambling.org
DTSTAMP:20210727T163352Z
CATEGORIES;LANGUAGE=en-US:Washington
CONTACT:Kathy Bishop\; (360) 352-6133 \; kbishop@evergreencpg.org \; www.ev
 ergreencpg.org
DESCRIPTION:Focus on the Future Conference (WA)\nWestern Regional Conferenc
 e on Problem Gambling Awareness – two-day pre-conference workshops\, May 6
 -7\, two-day main conference\, May 8-9. Recovery Coach Professionalism May
  6-7\; Recovery Coach Spirituality May 8-9.\nTickets: http://focusonthefut
 ure.evergreencpg.org .
DTSTART;TZID=America/New_York:20190506T080000
DTEND;TZID=America/New_York:20190509T170000
LOCATION:Great Wolf Lodge @ 20500 Old Hwy 99 SW Centralia\, WA 98531
SEQUENCE:0
SUMMARY:Evergreen- 9 hours in Centralia\, Washington
URL:https://www.ncpgambling.org/event/focus-on-the-future-conference-wa/
X-COST-TYPE:external
X-ALT-DESC;FMTTYPE=text/html:<!DOCTYPE HTML PUBLIC '-//W3C//DTD HTML 3.2//E
 N'>\\n<HTML>\\n<HEAD>\\n<TITLE></TITLE>\\n</HEAD>\\n<BODY><p><span style='
 text-decoration: underline\;'><strong>Focus on the Future Conference (WA)<
 /strong></span></p>\n<p>Western Regional Conference on Problem Gambling Aw
 areness – two-day pre-conference workshops\, May 6-7\, two-day main confer
 ence\, May 8-9. Recovery Coach Professionalism May 6-7\; Recovery Coach Sp
 irituality May 8-9.</p>\n<p>Tickets: <a class='ai1ec-ticket-url-exported' 
 href='http://focusonthefuture.evergreencpg.org '>http://focusonthefuture.e
 vergreencpg.org </a>.</p></BODY></HTML>
X-TICKETS-URL:http://focusonthefuture.evergreencpg.org
END:VEVENT
END:VCALENDAR
