BEGIN:VCALENDAR
VERSION:2.0
PRODID:-//104.198.108.154//NONSGML kigkonsult.se iCalcreator 2.24.2//
CALSCALE:GREGORIAN
METHOD:PUBLISH
X-WR-CALNAME:National Council on Problem Gambling
X-WR-CALDESC:NCPG
X-FROM-URL:https://www.ncpgambling.org
X-WR-TIMEZONE:America/New_York
BEGIN:VTIMEZONE
TZID:America/New_York
X-LIC-LOCATION:America/New_York
BEGIN:STANDARD
DTSTART:20211107T020000
TZOFFSETFROM:-0400
TZOFFSETTO:-0500
RDATE:20221106T020000
TZNAME:EST
END:STANDARD
BEGIN:DAYLIGHT
DTSTART:20210314T020000
TZOFFSETFROM:-0500
TZOFFSETTO:-0400
RDATE:20220313T020000,20230312T020000
TZNAME:EDT
END:DAYLIGHT
END:VTIMEZONE
BEGIN:VEVENT
UID:ai1ec-9261@www.ncpgambling.org
DTSTAMP:20210917T031500Z
CATEGORIES:
CONTACT:
DESCRIPTION:<p>The Raschkowan Lecture Series continues\, which is presented
  in partnership with the International Center for Youth Gambling & High-Ri
 sk Behaviors of McGill University and NCPG and is generously sponsored by 
 the Norman Raschkowan Foundation.</p>\n<p>There is no charge but registrat
 ion is required. To register for each of the lectures <a href='https://www
 .ncpgambling.org/raschkowan/'>go to this page</a>.</p>\n<p>Below is inform
 ation about the next four lectures that will occur in late 2021 through ea
 rly 2022.</p>\n<hr />\n<p><strong>Title:</strong> Raschkowan Lecture Serie
 s: The Convergence of Video Games and Gambling: Behavioural Similarities a
 nd Impacts on Wellbeing</p>\n<p>Join Dr. David Zendle\, Lecturer\, Departm
 ent of Computer Science\, York University\, for an exclusive presentation 
 on <strong>Thursday\, October 21\, 2021\, from noon to 1:00 pm Eastern Tim
 e.</strong></p>\n<hr />\n<p><strong>Title: </strong>Raschkowan Lecture Ser
 ies: Is it gambling? The evolution of Chance in Video Games and Esports</p
 >\n<p>Join Dr. Brett Abarbanel\, Director of Research\, UNLV International
  Gaming Institute\, University of Nevada\, Las Vegas\, for an exclusive pr
 esentation on <strong>Thursday\, November 18\, 2021\, from noon to 1:00 pm
  Eastern Time. </strong></p>\n<hr />\n<p><strong>Title: </strong>Raschkowa
 n Lecture Series: Gambling Disorder in the Digital Age: A UK Overview</p>
 \n<p>Join Dr. Henrietta Bowden-Jones\, President of Psychiatry\, Royal Soc
 iety of Medicine\; Director\, National Centre for Behavioural Addictions\,
  UK (National Problem Gambling Clinic and National Centre for Gaming Disor
 der)\, for an exclusive presentation on <strong>Thursday\, February 24\, 2
 022\, from noon to 1:00 pm Eastern Time</strong>.</p>\n<hr />\n<p><strong>
 Title: Raschkowan Lecture Series: Internet Sports Betting\, Yesterday\, To
 day and Tomorrow</strong></p>\n<p>Join Dr\, Debi LaPlante\, Director\, Div
 ision of Addiction\, Cambridge Health Alliance\, Harvard Medical School\, 
 for an exclusive presentation on <strong>Thursday\, March 24\, 2022\, from
  noon to 1:00 om Eastern Time</strong>.</p>\n<p> </p>
DTSTART;TZID=America/New_York:20211021T120000
DTEND;TZID=America/New_York:20220324T130000
SEQUENCE:0
SUMMARY:THE RASCHKOWAN LECTURE SERIES: GAMBLING DURING A DIGITAL REVOLUTION
URL:https://www.ncpgambling.org/event/the-raschkowan-lecture-series-gamblin
 g-during-a-digital-revolution/
X-COST-TYPE:free
END:VEVENT
END:VCALENDAR
