BEGIN:VCALENDAR
VERSION:2.0
PRODID:-//104.198.108.154//NONSGML kigkonsult.se iCalcreator 2.24.2//
CALSCALE:GREGORIAN
METHOD:PUBLISH
X-WR-CALNAME:National Council on Problem Gambling
X-WR-CALDESC:NCPG
X-FROM-URL:https://www.ncpgambling.org
X-WR-TIMEZONE:America/New_York
BEGIN:VTIMEZONE
TZID:America/New_York
X-LIC-LOCATION:America/New_York
BEGIN:STANDARD
DTSTART:20211107T020000
TZOFFSETFROM:-0400
TZOFFSETTO:-0500
RDATE:20221106T020000
TZNAME:EST
END:STANDARD
BEGIN:DAYLIGHT
DTSTART:20210314T020000
TZOFFSETFROM:-0500
TZOFFSETTO:-0400
RDATE:20220313T020000
TZNAME:EDT
END:DAYLIGHT
END:VTIMEZONE
BEGIN:VEVENT
UID:ai1ec-8933@www.ncpgambling.org
DTSTAMP:20210613T134153Z
CATEGORIES:
CONTACT:
DESCRIPTION:Join NCPG Executive Director Keith Whyte and report author Don 
 Feeney for a 60-minute exclusive webinar on the new National Detailed Repo
 rt\, which delves into many layers of behavior in how Americans gamble and
  their widely varying attitudes toward gambling. They will also touch on t
 he companion new State Detailed Reports with state-specific findings.\nThe
 y will explain the methodology behind NCPG’s largest research project to d
 ate\, highlight some of its most noteworthy results and surprising finding
 s\, discuss how anyone involved in the world of gambling and healthcare co
 uld utilize the information in their professional work\, and preview futur
 e survey efforts.\nFree to the public\, registration required. Please go h
 ere to do that.
DTSTART;TZID=America/New_York:20210406T130000
DTEND;TZID=America/New_York:20210406T140000
SEQUENCE:0
SUMMARY:NCPG Webinar: Overview of new National Detailed Report from NGAGE 1
 .0
URL:https://www.ncpgambling.org/event/ncpg-webinar-overview-of-new-national
 -detailed-report-from-ngage-1-0/
X-COST-TYPE:free
X-ALT-DESC;FMTTYPE=text/html:<!DOCTYPE HTML PUBLIC '-//W3C//DTD HTML 3.2//E
 N'>\\n<HTML>\\n<HEAD>\\n<TITLE></TITLE>\\n</HEAD>\\n<BODY><p>Join NCPG Exe
 cutive Director Keith Whyte and report author Don Feeney for a 60-minute e
 xclusive webinar on the new National Detailed Report\, which delves into m
 any layers of behavior in how Americans gamble and their widely varying at
 titudes toward gambling. They will also touch on the companion new State D
 etailed Reports with state-specific findings.</p>\n<p>They will explain th
 e methodology behind NCPG’s largest research project to date\, highlight s
 ome of its most noteworthy results and surprising findings\, discuss how a
 nyone involved in the world of gambling and healthcare could utilize the i
 nformation in their professional work\, and preview future survey efforts.
 </p>\n<p>Free to the public\, registration required. Please <a href='https
 ://ncpgambling.site-ym.com/event/NationalNGAGE'>go here</a> to do that.</p
 >\n</BODY></HTML>
END:VEVENT
END:VCALENDAR
