BEGIN:VCALENDAR
VERSION:2.0
PRODID:-//104.198.108.154//NONSGML kigkonsult.se iCalcreator 2.24.2//
CALSCALE:GREGORIAN
METHOD:PUBLISH
X-WR-CALNAME:National Council on Problem Gambling
X-WR-CALDESC:NCPG
X-FROM-URL:https://www.ncpgambling.org
X-WR-TIMEZONE:America/New_York
BEGIN:VTIMEZONE
TZID:America/New_York
X-LIC-LOCATION:America/New_York
BEGIN:STANDARD
DTSTART:20211107T020000
TZOFFSETFROM:-0400
TZOFFSETTO:-0500
RDATE:20221106T020000
TZNAME:EST
END:STANDARD
BEGIN:DAYLIGHT
DTSTART:20210314T020000
TZOFFSETFROM:-0500
TZOFFSETTO:-0400
RDATE:20220313T020000
TZNAME:EDT
END:DAYLIGHT
END:VTIMEZONE
BEGIN:VEVENT
UID:ai1ec-8903@www.ncpgambling.org
DTSTAMP:20210613T134320Z
CATEGORIES:
CONTACT:Kaitlin Brown\; 860-604-0194\; kaitlinf@ccpg.org
DESCRIPTION:Hosted by CT Council on Problem Gambling\nMichael Franzese\, a 
 former Columbo Capo\, in a frank discussion explains how the mafia uses il
 legal gambling such as numbers lotteries\, hidden rooms filled with casino
  table games\, bookmaking\, and even coercing sports players into shedding
  points in key games in order to make exploit people and make money. Havin
 g walked away from the Mafia\, Michael has spoken to thousands about the d
 angers of “the life” and seeks to educate people on the dangers by sharing
  his first-hand experiences about how the underworld entices people to ill
 egal gambling and how to protect yourself.\nCEs available: 1\nRegister her
 e.\nTickets: https://ccpg.link/Franzese.
DTSTART;TZID=America/New_York:20210407T120000
DTEND;TZID=America/New_York:20210407T130000
SEQUENCE:0
SUMMARY:Michael Franzese: Gambling and the Mafia
URL:https://www.ncpgambling.org/event/michael-franzese-gambling-and-the-maf
 ia/
X-COST-TYPE:external
X-ALT-DESC;FMTTYPE=text/html:<!DOCTYPE HTML PUBLIC '-//W3C//DTD HTML 3.2//E
 N'>\\n<HTML>\\n<HEAD>\\n<TITLE></TITLE>\\n</HEAD>\\n<BODY><p>Hosted by CT 
 Council on Problem Gambling</p>\n<p>Michael Franzese\, a former Columbo Ca
 po\, in a frank discussion explains how the mafia uses illegal gambling su
 ch as numbers lotteries\, hidden rooms filled with casino table games\, bo
 okmaking\, and even coercing sports players into shedding points in key ga
 mes in order to make exploit people and make money. Having walked away fro
 m the Mafia\, Michael has spoken to thousands about the dangers of “the li
 fe” and seeks to educate people on the dangers by sharing his first-hand e
 xperiences about how the underworld entices people to illegal gambling and
  how to protect yourself.</p>\n<p>CEs available: 1</p>\n<p>Register <a hre
 f='https://ccpg.link/Franzese'>here</a>.</p>\n<p>Tickets: <a class='ai1ec-
 ticket-url-exported' href='https://ccpg.link/Franzese'>https://ccpg.link/F
 ranzese</a>.</p></BODY></HTML>
X-COST:$15
X-TICKETS-URL:https://ccpg.link/Franzese
END:VEVENT
END:VCALENDAR
