BEGIN:VCALENDAR
VERSION:2.0
PRODID:-//104.198.108.154//NONSGML kigkonsult.se iCalcreator 2.24.2//
CALSCALE:GREGORIAN
METHOD:PUBLISH
X-WR-CALNAME:National Council on Problem Gambling
X-WR-CALDESC:NCPG
X-FROM-URL:https://www.ncpgambling.org
X-WR-TIMEZONE:America/New_York
BEGIN:VTIMEZONE
TZID:America/New_York
X-LIC-LOCATION:America/New_York
BEGIN:STANDARD
DTSTART:20201101T020000
TZOFFSETFROM:-0400
TZOFFSETTO:-0500
RDATE:20211107T020000,20221106T020000
TZNAME:EST
END:STANDARD
BEGIN:DAYLIGHT
DTSTART:20210314T020000
TZOFFSETFROM:-0500
TZOFFSETTO:-0400
RDATE:20220313T020000
TZNAME:EDT
END:DAYLIGHT
END:VTIMEZONE
BEGIN:VEVENT
UID:ai1ec-8840@www.ncpgambling.org
DTSTAMP:20210515T090725Z
CATEGORIES:
CONTACT:Odessa Dwarika\; 617-426-4554\; Odessa@macgh.org
DESCRIPTION:<p>Hosted by Massachusetts Council on Gaming and Health</p>\n<p
 >This training is designed to help both clinical and non-clinical direct c
 are staff to learn specific\, effective\, interventions for different type
 s of Bettors to help reduce or eliminate gambling episodes throughout thei
 r treatment. Participants will learn how to help clients create crucial ba
 rriers to gambling early on in treatment based on the client’s fame of cho
 ice. Discussion will focus on different types of Bettors including Casino\
 , Lottery\, Online\, Sports\, and Off-Track Betting. Additional discussion
  will include how to help clients deal with financial burdens and support 
 for family members. </p>\n<p>Learning Objectives:<br />\n-Identify a speci
 fic intervention for each of the 5 different types of betting<br />\n-Lear
 n 2 different types of boundary setting to share with Persons Affected<br 
 />\n-Learn 2  financial interventions to implement at the onset of a treat
 ment episode</p>\n<p>The Massachusetts Council on Gaming and Health has be
 en approved by NBCC as an Approved Continuing Education Provider\, ACEP No
 .6331. Programs that do not qualify for NBCC credit are clearly identified
 . The Massachusetts Council on Gaming and Health is solely responsible for
  all aspects of the programs.</p>\n<p>CEs available: 2</p>\n<p><a href='ht
 tps://attendee.gotowebinar.com/register/4094524540174274062'>Register here
 .</a></p>\n<p>Tickets: <a class='ai1ec-ticket-url-exported' href='https://
 attendee.gotowebinar.com/register/4094524540174274062'>https://attendee.go
 towebinar.com/register/4094524540174274062</a>.</p>
DTSTART;TZID=America/New_York:20210602T110000
DTEND;TZID=America/New_York:20210602T130000
LOCATION:Online
SEQUENCE:0
SUMMARY:Not All Bets Are the Same: A Targeted Intervention Guide for Specif
 ic Types of Bettors
URL:https://www.ncpgambling.org/event/not-all-bets-are-the-same-a-targeted-
 intervention-guide-for-specific-types-of-bettors/
X-COST-TYPE:external
X-COST:$30
X-TICKETS-URL:https://attendee.gotowebinar.com/register/4094524540174274062
END:VEVENT
END:VCALENDAR
