BEGIN:VCALENDAR
VERSION:2.0
PRODID:-//104.198.108.154//NONSGML kigkonsult.se iCalcreator 2.24.2//
CALSCALE:GREGORIAN
METHOD:PUBLISH
X-WR-CALNAME:National Council on Problem Gambling
X-WR-CALDESC:NCPG
X-FROM-URL:https://www.ncpgambling.org
X-WR-TIMEZONE:America/New_York
BEGIN:VTIMEZONE
TZID:America/New_York
X-LIC-LOCATION:America/New_York
BEGIN:STANDARD
DTSTART:20211107T020000
TZOFFSETFROM:-0400
TZOFFSETTO:-0500
RDATE:20221106T020000
TZNAME:EST
END:STANDARD
BEGIN:DAYLIGHT
DTSTART:20210314T020000
TZOFFSETFROM:-0500
TZOFFSETTO:-0400
RDATE:20220313T020000
TZNAME:EDT
END:DAYLIGHT
END:VTIMEZONE
BEGIN:VEVENT
UID:ai1ec-8078@www.ncpgambling.org
DTSTAMP:20210707T010442Z
CATEGORIES:
CONTACT:
DESCRIPTION:<p><strong>Webinar: RG During COVID-19!</strong></p>\n<p>Presen
 ted by:<br />\nKeith Whyte<br />\nNCPG Executive Director</p>\n<p>Tuesday\
 , April 7<br />\n1:00-2:00 PM ET</p>\n<p><strong>FREE for NCPG Members </s
 trong><br />\n$59 for Non-Members</p>\n<p> </p>\n<p class='p1'>Don’t miss 
 this important webinar next Tuesday\, April 7\, with Executive Director Ke
 ith Whyte discussing why responsible gambling is more important than ever 
 during the Coronavirus crisis and what operators can do to be part of the 
 solution.</p>\n<p> </p>\n<p>Register <a href='https://ncpgambling.site-ym.
 com/events/EventDetails.aspx?id=1359633&group='>Here</a>.</p>
DTSTART;TZID=America/New_York:20200407T130000
DTEND;TZID=America/New_York:20200407T140000
SEQUENCE:0
SUMMARY:Webinar: RG During COVID-19
URL:https://www.ncpgambling.org/event/webinar-rg-during-covid-19/
X-COST-TYPE:free
END:VEVENT
END:VCALENDAR
