BEGIN:VCALENDAR
VERSION:2.0
PRODID:-//104.198.108.154//NONSGML kigkonsult.se iCalcreator 2.24.2//
CALSCALE:GREGORIAN
METHOD:PUBLISH
X-WR-CALNAME:National Council on Problem Gambling
X-WR-CALDESC:NCPG
X-FROM-URL:https://www.ncpgambling.org
X-WR-TIMEZONE:America/New_York
BEGIN:VTIMEZONE
TZID:America/New_York
X-LIC-LOCATION:America/New_York
BEGIN:STANDARD
DTSTART:20211107T020000
TZOFFSETFROM:-0400
TZOFFSETTO:-0500
RDATE:20221106T020000
TZNAME:EST
END:STANDARD
BEGIN:DAYLIGHT
DTSTART:20210314T020000
TZOFFSETFROM:-0500
TZOFFSETTO:-0400
RDATE:20220313T020000
TZNAME:EDT
END:DAYLIGHT
END:VTIMEZONE
BEGIN:VEVENT
UID:ai1ec-6555@www.ncpgambling.org
DTSTAMP:20210628T035947Z
CATEGORIES;LANGUAGE=en-US:New York
CONTACT:http://nyproblemgambling.org/conference
DESCRIPTION:Each year the New York Council on Problem Gambling seeks to bri
 ng together researchers\, legislatures\, counselors and other problem gamb
 ling experts from all over the world to increase the knowledge of NYS prof
 essionals and bring focus to this devastating disorder. With focuses on pr
 evention\, treatment and recovery\, this conference provides diversified t
 raining and is valuable for a variety of professions. Additionally\, NYCPG
  seeks to provide a strong focus on increasing awareness that treatment wo
 rks and recovery is possible.\n \nCLICK HERE TO REGISTER
DTSTART;VALUE=DATE:20181009
DTEND;VALUE=DATE:20181012
LOCATION:Albany Marriott @ 189 Wolf Road\, Albany\, NY
SEQUENCE:0
SUMMARY:New York Council on Problem Gambling Annual Conference (NY)
URL:https://www.ncpgambling.org/event/new-york-council-on-problem-gambling-
 annual-conference-ny/
X-COST-TYPE:free
X-ALT-DESC;FMTTYPE=text/html:<!DOCTYPE HTML PUBLIC '-//W3C//DTD HTML 3.2//E
 N'>\\n<HTML>\\n<HEAD>\\n<TITLE></TITLE>\\n</HEAD>\\n<BODY><p>Each year the
  New York Council on Problem Gambling seeks to bring together researchers\
 , legislatures\, counselors and other problem gambling experts from all ov
 er the world to increase the knowledge of NYS professionals and bring focu
 s to this devastating disorder. With focuses on prevention\, treatment and
  recovery\, this conference provides diversified training and is valuable 
 for a variety of professions. Additionally\, NYCPG seeks to provide a stro
 ng focus on increasing awareness that treatment works and recovery is poss
 ible.</p>\n<p> </p>\n<p><a href='http://nyproblemgambling.org/conference'>
 CLICK HERE TO REGISTER</a></p>\n</BODY></HTML>
END:VEVENT
END:VCALENDAR
