BEGIN:VCALENDAR
VERSION:2.0
PRODID:-//104.198.108.154//NONSGML kigkonsult.se iCalcreator 2.24.2//
CALSCALE:GREGORIAN
METHOD:PUBLISH
X-WR-CALNAME:National Council on Problem Gambling
X-WR-CALDESC:NCPG
X-FROM-URL:https://www.ncpgambling.org
X-WR-TIMEZONE:America/New_York
BEGIN:VTIMEZONE
TZID:America/New_York
X-LIC-LOCATION:America/New_York
BEGIN:STANDARD
DTSTART:20211107T020000
TZOFFSETFROM:-0400
TZOFFSETTO:-0500
RDATE:20221106T020000
TZNAME:EST
END:STANDARD
BEGIN:DAYLIGHT
DTSTART:20210314T020000
TZOFFSETFROM:-0500
TZOFFSETTO:-0400
RDATE:20220313T020000
TZNAME:EDT
END:DAYLIGHT
END:VTIMEZONE
BEGIN:VEVENT
UID:ai1ec-6550@www.ncpgambling.org
DTSTAMP:20210628T040100Z
CATEGORIES;LANGUAGE=en-US:Florida
CONTACT:Noelle Selochan\; (407) 865-6200\; nselochan@gamblinghelp.org\; htt
 p://spgc2018.org/
DESCRIPTION:Earn Up to 10 CEUs at the Southern Region Problem Gambling Conf
 erence this October. Registration is now open for the inaugural Southern R
 egion Problem Gambling Conference! Join professionals from around the coun
 try at the Hilton Garden Inn at SeaWorld in Orlando\, from October 26-27\,
  2018\, to learn about the latest developments in prevention\, treatment\,
  outreach\, and technology while looking at what the future holds. Earn up
  to 10 CEUs and make it a bizcation!\n \nCLICK HERE TO REGISTER
DTSTART;VALUE=DATE:20181026
DTEND;VALUE=DATE:20181028
LOCATION:Hilton Garden Inn Seaworld @ 6850 Westwood Blvd\, Orlando\, FL 328
 21
SEQUENCE:0
SUMMARY:Southern Region Problem Gambling Conference (FL)
URL:https://www.ncpgambling.org/event/srpgconference/
X-COST-TYPE:free
X-ALT-DESC;FMTTYPE=text/html:<!DOCTYPE HTML PUBLIC '-//W3C//DTD HTML 3.2//E
 N'>\\n<HTML>\\n<HEAD>\\n<TITLE></TITLE>\\n</HEAD>\\n<BODY><p>Earn Up to 10
  CEUs at the Southern Region Problem Gambling Conference this October. Reg
 istration is now open for the inaugural Southern Region Problem Gambling C
 onference! Join professionals from around the country at the Hilton Garden
  Inn at SeaWorld in Orlando\, from October 26-27\, 2018\, to learn about t
 he latest developments in prevention\, treatment\, outreach\, and technolo
 gy while looking at what the future holds. Earn up to 10 CEUs and make it 
 a bizcation!</p>\n<p> </p>\n<p><a href='http://spgc2018.org/'>CLICK HERE T
 O REGISTER</a></p>\n</BODY></HTML>
END:VEVENT
END:VCALENDAR
